BEGIN:VCALENDAR
VERSION:2.0
PRODID:-//wp-events-plugin.com//7.0.4//EN
TZID:America/New_York
X-WR-TIMEZONE:America/New_York
BEGIN:VEVENT
UID:6244@naplestriathletes.com
DTSTART;TZID=America/New_York:20230617T071500
DTEND;TZID=America/New_York:20230617T080000
DTSTAMP:20230612T153243Z
URL:https://www.naplestriathletes.com/events/splash-and-dash/
SUMMARY:Splash and Dash
DESCRIPTION:About the Splash and Dash:\n\nThe Splash &amp\; Dash is a uniqu
 e event with a relaxed yet competitive atmosphere suitable for athletes of
  all levels. \n\nWe will start with a mass beach start and swim two laps a
 round the buoys\, then run down the beach to a designated spot and return 
 to the finish.\n\nWhat do you get for finishing first? Bragging rights! Th
 ere may or not be prizes too.\n\nOur goal for this event is to prepare you
  for your race swims by giving you a race feel you can’t replicate in pr
 actice.\n\nWe encourage everyone to come out and compete\, even if it’s 
 a friendly competition between training partners.\n\nThe regular Oh Buoy S
 wim will start when our Splash and Dash participants are out of the water.
 \n\nEven if you will not join the Splash and Dash\, please come and cheer 
 on your favorite triathlete.\n\nWe meet near the south entrance of Lowderm
 ilk Park.
ATTACH;FMTTYPE=image/jpeg:https://www.naplestriathletes.com/wp-content/upl
 oads/2023/06/splash-and-dash-400.jpg
CATEGORIES:Swimming
LOCATION:Lowdermilk Park\, banyan\, Naples\, FL\, 34102\, United States
GEO:26.16230009939792;-81.80980320747068
X-APPLE-STRUCTURED-LOCATION;VALUE=URI;X-ADDRESS=banyan\, Naples\, FL\, 3410
 2\, United States;X-APPLE-RADIUS=100;X-TITLE=Lowdermilk Park:geo:26.162300
 09939792,-81.80980320747068
END:VEVENT
BEGIN:VTIMEZONE
TZID:America/New_York
X-LIC-LOCATION:America/New_York
BEGIN:DAYLIGHT
DTSTART:20230312T030000
TZOFFSETFROM:-0500
TZOFFSETTO:-0400
TZNAME:EDT
END:DAYLIGHT
END:VTIMEZONE
END:VCALENDAR