BEGIN:VCALENDAR
VERSION:2.0
PRODID:-//wp-events-plugin.com//7.0.4//EN
TZID:America/New_York
X-WR-TIMEZONE:America/New_York
BEGIN:VEVENT
UID:6396@naplestriathletes.com
DTSTART;TZID=America/New_York:20240211T073000
DTEND;TZID=America/New_York:20240211T093000
DTSTAMP:20240109T145953Z
URL:https://www.naplestriathletes.com/events/marco-island-group-bike-ride-
 and-run-join-us/
SUMMARY:Marco Island Group Bike Ride and Run - Join Us
DESCRIPTION:Marco Island Group Bike Ride and Run\nLet’s ride and run toge
 ther!\n\nSunday\, February 11th – 7:30- 9:30 am\n\nJoin Naples Area Tria
 thletes for a group bike ride and run on Marco Island. This workout is des
 igned for all levels\; you will work out at your own pace and feel part of
  a group.\n\nWe will meet in the Publix parking lot and proceed to the Goo
 dland Bridge as a group. Once at the bridge\, we will ride over the bridge
  several times at your own pace. We will then regroup and ride to Key Marc
 o. Once in Key Marco\, you will ride loops in the neighborhood at your own
  pace\, and when it’s time to return to Publix\, we will regroup and rid
 e together.\n\nOnce back at the parking lot\, we will have an optional 3-5
 K run.\n\nYou must bring your bike\, running gear\, water\, and any nutrit
 ion you need for this workout. Plan on a 2-hour workout.\n\nThis workout i
 s free to NATS members.&nbsp\;\n\nThere is a $5 entry fee for Key Marco. P
 lease bring cash. We will pay as a group to enter.\n\nPlease arrive early\
 , as we will leave the parking lot at 7:30 am.\n\nPublix is located at 175
  S Barfield Dr\, Marco Island\, FL 34145
ATTACH;FMTTYPE=image/jpeg:https://www.naplestriathletes.com/wp-content/upl
 oads/2023/06/marco-ride-march-group-small.jpg
CATEGORIES:Triathlon Training Group
LOCATION:Publix Marco Island\, 175 S Barfield Dr\, \, Marco Island\, FL\, U
 nited States
GEO:25.931753;-81.699282
X-APPLE-STRUCTURED-LOCATION;VALUE=URI;X-ADDRESS=175 S Barfield Dr\, \, Marc
 o Island\, FL\, United States;X-APPLE-RADIUS=100;X-TITLE=Publix Marco Isla
 nd:geo:25.931753,-81.699282
END:VEVENT
BEGIN:VTIMEZONE
TZID:America/New_York
X-LIC-LOCATION:America/New_York
BEGIN:STANDARD
DTSTART:20231105T010000
TZOFFSETFROM:-0400
TZOFFSETTO:-0500
TZNAME:EST
END:STANDARD
END:VTIMEZONE
END:VCALENDAR