BEGIN:VCALENDAR
VERSION:2.0
PRODID:-//wp-events-plugin.com//7.0.4//EN
TZID:America/New_York
X-WR-TIMEZONE:America/New_York
BEGIN:VEVENT
UID:6399@naplestriathletes.com
DTSTART;TZID=America/New_York:20240125T170000
DTEND;TZID=America/New_York:20240125T190000
DTSTAMP:20240115T200112Z
URL:https://www.naplestriathletes.com/events/happy/
SUMMARY:Happy Hour - Social Event
DESCRIPTION:NATs Happy Hour Social / Business Spotlight\nJan 23rd | 5 to 7 
 pm | Fit for You\n\nWe will host a happy hour with drinks\, light snacks\,
  and door prizes from 5 to 7 pm at Fit for You.\n\nFit for You is a Power 
 Plate Fitness Studio located in downtown Naples.\nTheir instructors will b
 e on hand to show how their Power Plates and Bemer Therapy Mats will benef
 it your health and fitness goals. Their fitness equipment is focused on he
 lping you increase flexibility\, improve balance\, reduce back pain\, and 
 improve knee function and blood flow.\nFit for You will be offering a spec
 ial pricing package for our members\, so please come out and mingle with c
 lub members and learn more about this program.\n\nCheck out their website.
 \n\nFit for You is located at 91 9th Street South (Tamiami Trail) 34102\n\
 nFree for members\, $20 for non-members\n\nAnd we hope to see more member 
 participation at our training and social events. Feel free to give us inpu
 t into the types of programs you would like to see as well.\n**And let us 
 know if you know another business that would like to host a member night.
ATTACH;FMTTYPE=image/jpeg:https://www.naplestriathletes.com/wp-content/upl
 oads/2024/01/alysia-F4Ysmall.jpg
CATEGORIES:Social
END:VEVENT
BEGIN:VTIMEZONE
TZID:America/New_York
X-LIC-LOCATION:America/New_York
BEGIN:STANDARD
DTSTART:20231105T010000
TZOFFSETFROM:-0400
TZOFFSETTO:-0500
TZNAME:EST
END:STANDARD
END:VTIMEZONE
END:VCALENDAR