BEGIN:VCALENDAR
VERSION:2.0
PRODID:-//wp-events-plugin.com//7.0.4//EN
TZID:America/New_York
X-WR-TIMEZONE:America/New_York
BEGIN:VEVENT
UID:6384@naplestriathletes.com
DTSTART;TZID=America/New_York:20240214T180000
DTEND;TZID=America/New_York:20240214T190000
DTSTAMP:20240116T140236Z
URL:https://www.naplestriathletes.com/events/bay-front-baker-park-evening-
 run-2024-02-14/
SUMMARY:Bay Front - Baker Park Evening Run
DESCRIPTION:Bay Front - Baker Park Evening Run\n6:30 pm meetup at Bayfront\
 nCome run with us at our evening run. We start at Bay Front and run throug
 h Baker Park.\nAll levels are welcome!\nSome will walk\, some will run. Us
 ually\, we do fartleks.&nbsp\; There is something for everyone!\nThen we s
 ocialize. We’ll grab a table for those who want food &amp\; or drinks.\n
 Come out and meet other members.
ATTACH;FMTTYPE=image/jpeg:https://www.naplestriathletes.com/wp-content/upl
 oads/2024/01/we-run-naples-small.jpg
CATEGORIES:Running
LOCATION:Bay Front\, 5th ave s\, naples \, United States
GEO:26.144042;-81.789665
X-APPLE-STRUCTURED-LOCATION;VALUE=URI;X-ADDRESS=5th ave s\, naples \, Unite
 d States;X-APPLE-RADIUS=100;X-TITLE=Bay Front:geo:26.144042,-81.789665
END:VEVENT
BEGIN:VTIMEZONE
TZID:America/New_York
X-LIC-LOCATION:America/New_York
BEGIN:STANDARD
DTSTART:20231105T010000
TZOFFSETFROM:-0400
TZOFFSETTO:-0500
TZNAME:EST
END:STANDARD
END:VTIMEZONE
END:VCALENDAR