BEGIN:VCALENDAR
VERSION:2.0
PRODID:-//wp-events-plugin.com//7.0.4//EN
TZID:America/New_York
X-WR-TIMEZONE:America/New_York
BEGIN:VEVENT
UID:6263@naplestriathletes.com
DTSTART;TZID=America/New_York:20240526T073000
DTEND;TZID=America/New_York:20240526T090000
DTSTAMP:20240108T203815Z
URL:https://www.naplestriathletes.com/events/2-mile-swim-challenge/
SUMMARY:2-Mile Swim Challenge
DESCRIPTION:We are excited about our second 2-Mile Swim Challenge on Sunday
 \, May 26th.\n&nbsp\;\nAbout the 2 Mile Swim Challenge:\nThis is an unsupp
 orted swim.\nYou will be swimming at your own risk.\nThe swim starts at Lo
 wdermilk Park and ends at the Naples Pier.\nYou will need to walk back to 
 Lowdermilk Park.\nIf you don’t want to walk back:&nbsp\;\nWe suggest if 
 you are swimming with a friend or two\, you can park one vehicle in the pa
 rking lot at the pier and then drive back to Lowdermilk for the start.\n&n
 bsp\;\nLet us know if you would like to help shuttle people in the morning
 .\nPlease make sure you arrive early if you are planning on shuttling cars
 .\nMessage us if you can help\, will need help or with any other general q
 uestions.\nIf you want to walk back:&nbsp\;\nWe suggest you swim with a sw
 im buoy so that you can carry a hat\, sunglasses and sunscreen for the wal
 k back to the start.\nOf course\, you could always swim back.\n\nBring a b
 each chair and stay at the beach after the event to celebrate Memorial Day
  and meet up for breakfast afterward.\n&nbsp\;\nThis open water swim train
 ing will help you feel more comfortable in the open water and will help yo
 u sight better.\nThis is a family-friendly event. It's great training!\nWe
  meet near the south entrance of Lowdermilk Park.\nSee you at the beach!\n
 &nbsp\;\n&nbsp\;\nLowdermilk Park 7:30 am - ????
ATTACH;FMTTYPE=image/jpeg:https://www.naplestriathletes.com/wp-content/upl
 oads/2023/02/group-1-600.jpg
CATEGORIES:Swimming
LOCATION:Lowdermilk Park\, banyan\, Naples\, FL\, 34102\, United States
GEO:26.16230009939792;-81.80980320747068
X-APPLE-STRUCTURED-LOCATION;VALUE=URI;X-ADDRESS=banyan\, Naples\, FL\, 3410
 2\, United States;X-APPLE-RADIUS=100;X-TITLE=Lowdermilk Park:geo:26.162300
 09939792,-81.80980320747068
END:VEVENT
BEGIN:VTIMEZONE
TZID:America/New_York
X-LIC-LOCATION:America/New_York
BEGIN:DAYLIGHT
DTSTART:20240310T030000
TZOFFSETFROM:-0500
TZOFFSETTO:-0400
TZNAME:EDT
END:DAYLIGHT
END:VTIMEZONE
END:VCALENDAR